BEGIN:VCALENDAR
VERSION:2.0
PRODID:-//SF Bay Conservation &amp; Development - ECPv6.15.19//NONSGML v1.0//EN
CALSCALE:GREGORIAN
METHOD:PUBLISH
X-WR-CALNAME:SF Bay Conservation &amp; Development
X-ORIGINAL-URL:https://www.bcdc.ca.gov
X-WR-CALDESC:Events for SF Bay Conservation &amp; Development
REFRESH-INTERVAL;VALUE=DURATION:PT1H
X-Robots-Tag:noindex
X-PUBLISHED-TTL:PT1H
BEGIN:VTIMEZONE
TZID:America/Los_Angeles
BEGIN:DAYLIGHT
TZOFFSETFROM:-0800
TZOFFSETTO:-0700
TZNAME:PDT
DTSTART:20240310T100000
END:DAYLIGHT
BEGIN:STANDARD
TZOFFSETFROM:-0700
TZOFFSETTO:-0800
TZNAME:PST
DTSTART:20241103T090000
END:STANDARD
BEGIN:DAYLIGHT
TZOFFSETFROM:-0800
TZOFFSETTO:-0700
TZNAME:PDT
DTSTART:20250309T100000
END:DAYLIGHT
BEGIN:STANDARD
TZOFFSETFROM:-0700
TZOFFSETTO:-0800
TZNAME:PST
DTSTART:20251102T090000
END:STANDARD
BEGIN:DAYLIGHT
TZOFFSETFROM:-0800
TZOFFSETTO:-0700
TZNAME:PDT
DTSTART:20260308T100000
END:DAYLIGHT
BEGIN:STANDARD
TZOFFSETFROM:-0700
TZOFFSETTO:-0800
TZNAME:PST
DTSTART:20261101T090000
END:STANDARD
END:VTIMEZONE
BEGIN:VEVENT
DTSTART;TZID=America/Los_Angeles:20250703T130000
DTEND;TZID=America/Los_Angeles:20250703T170000
DTSTAMP:20260422T012224
CREATED:20241209T231953Z
LAST-MODIFIED:20250611T202249Z
UID:10000240-1751547600-1751562000@www.bcdc.ca.gov
SUMMARY:July 3\, 2025 Commission Meeting
DESCRIPTION:
URL:https://www.bcdc.ca.gov/event/july-3-2025-commission-meeting/
CATEGORIES:Commission
END:VEVENT
BEGIN:VEVENT
DTSTART;TZID=America/Los_Angeles:20250709T093000
DTEND;TZID=America/Los_Angeles:20250709T120000
DTSTAMP:20260422T012224
CREATED:20241104T231042Z
LAST-MODIFIED:20250623T191256Z
UID:10000219-1752053400-1752062400@www.bcdc.ca.gov
SUMMARY:July 9\, 2025 Enforcement Committee Meeting
DESCRIPTION:
URL:https://www.bcdc.ca.gov/event/july-9-2025-enforcement-committee-meeting/
CATEGORIES:Enforcement Committee
END:VEVENT
BEGIN:VEVENT
DTSTART;TZID=America/Los_Angeles:20250709T120000
DTEND;TZID=America/Los_Angeles:20250709T130000
DTSTAMP:20260422T012224
CREATED:20250708T171227Z
LAST-MODIFIED:20250708T171227Z
UID:10000299-1752062400-1752066000@www.bcdc.ca.gov
SUMMARY:July 9\, 2025 Tracking Sea Level Rise Adaptation: An Introduction to Bay Adapt Currents
DESCRIPTION:Bay Adapt Currents is a dynamic\, data-driven dashboard developed by the San Francisco Bay Conservation and Development Commission (BCDC). It is a centralized platform to monitor and report on the region’s efforts to adapt to rising sea levels. \nThis webinar will introduce attendees to Bay Adapt Currents. You will learn to navigate the dashboard and learn about the 11 metrics that track: \n\nHundreds of sea level rise policies in 55 Bay Area cities’ General Plans\nCompleted Adaptation Projects in the Bay\nPrograms that work to build capacity on sea level rise adaptation and knowledge\nso much more!\n\nRegister Here:https://bcdc-ca-gov.zoom.us/webinar/register/WN_CxzGqFP4QG6wOQRzVBeB_Q \nCurrents Webinar Flyer
URL:https://www.bcdc.ca.gov/event/july-9-2025-tracking-sea-level-rise-adaptation-an-introduction-to-bay-adapt-currents/
CATEGORIES:Regional Shoreline Adaptation Plan
END:VEVENT
BEGIN:VEVENT
DTSTART;TZID=America/Los_Angeles:20250717T100000
DTEND;TZID=America/Los_Angeles:20250717T113000
DTSTAMP:20260422T012224
CREATED:20250703T230053Z
LAST-MODIFIED:20250703T233132Z
UID:10000298-1752746400-1752751800@www.bcdc.ca.gov
SUMMARY:July 17\, 2025 Environmental Justice Commissioner Working Group
DESCRIPTION:
URL:https://www.bcdc.ca.gov/event/july-17-2025-environmental-justice-commissioner-working-group/
CATEGORIES:Environmental Justice Working Group
END:VEVENT
BEGIN:VEVENT
DTSTART;TZID=America/Los_Angeles:20250717T130000
DTEND;TZID=America/Los_Angeles:20250717T170000
DTSTAMP:20260422T012224
CREATED:20241209T232044Z
LAST-MODIFIED:20250801T035651Z
UID:10000241-1752757200-1752771600@www.bcdc.ca.gov
SUMMARY:July 17\, 2025 Commission Meeting
DESCRIPTION:This Commission meeting will operate as a hybrid meeting under teleconference rules established by the Bagley-Keene Open Meeting Act. Commissioners are located at the primary physical location and may be located at the teleconference locations specified below\, all of which are publicly accessible. The Zoom video conference link and teleconference information for members of the public to participate virtually are also specified below. \nPrimary physical locationMetro Center375 Beale Street\, 1st Floor\, Yerba Buena Room\,San Francisco\, CA415-352-3600 \nTeleconference locations• 715 P St.\, 20th Fl.\, Trestles Conf. Rm.\, Sacramento\, CA 95814• CALTRANS: 111 Grand Ave.\, 15th Fl.\, Oakland\, CA 94612• Earl Warren Hiram W Johnson Building: 455 Golden Gate Ave.\, San Francisco\, CA 94102• 176 E. Blithedale Ave.\, Mill Valley\, CA 94941• Madera County Board of Supervisors Office: 200 W. 4th St.\, Ste. 4100\, Madera\, CA 93637• 433 Natoma St.\, Fl. 3\, San Francisco\, CA 94103• 197 Palmer Ave.\, Falmouth\, MA 02540• 2379 Sheffield Dr.\, Livermore\, CA 94550• 1021 O St.\, Rm. 6710\, Sacramento\, CA 95814• 890 Osos St.\, Ste. H\, San Luis Obispo\, CA 93401• Office of Supervisor John Gioia: 11780 San Pablo Ave.\, Ste. D\, El Cerrito\, CA 94530• 402 N. High St.\, Columbus\, Ohio 43215 \nIf you have issues joining the meeting using the link\, please enter the Meeting ID and Password listed below into the ZOOM app to join the meeting. \nJoin the meeting via ZOOM \nhttps://bcdc-ca-gov.zoom.us/j/86383914389?pwd=fH31a46MamaQevdDlaK7Z3Lm3UEF6q.1 \nLive Webcast \nSee information on public participation \nTeleconference numbers1 (866) 590-5055Conference Code 374334 \nMeeting ID863 8391 4389 \nPasscode044169 \nIf you call in by telephone:Press *6 to unmute or mute yourselfPress *9 to raise your hand or lower your hand to speak  \n				\n				\n				\n				\n				Agenda\n				\nCall to Order\nRoll Call\nPublic Comment Period (Each speaker is limited to three minutes)A maximum of 15 minutes is available for the public to address the Commission on any matter on which the Commission either has not held a public hearing or is not scheduled for a public hearing later in the meeting. Speakers will be heard in the order of sign-up\, and each speaker is generally limited to a maximum of three minutes. It is strongly recommended that public comments be submitted in writing so they can be distributed to all Commission members for review. The Commission may provide more time to each speaker and can extend the public comment period beyond the normal 15-minute maximum if the Commission believes that it is necessary to allow a reasonable opportunity to hear from all members of the public who want to testify. No Commission action can be taken on any matter raised during the public comment period other than to schedule the matter for a future agenda or refer the matter to the staff for investigation\, unless the matter is scheduled for action by the Commission later in the meeting.(Sierra Peterson) [415-352-3608; sierra.peterson@bcdc.ca.gov]\n[publiccomment@bcdc.ca.gov]Public Comment \n\nReport of the Chair\nReport of the Executive Director\nConsent Calendar\n\nApproval of Minutes for June 5\, 2025 Meeting(Sierra Peterson) [415-352-3608; sierra.peterson@bcdc.ca.gov]\n\n\nCommission Consideration of Administrative Matters(Harriet Ross) [415-352-3615; harriet.ross@bcdc.ca.gov]\n  \n\nPublic Hearing on Bay Plan Amendment 3-17\, San Francisco Waterfront Special Area PlanThe Commission will hold a public hearing on the Port of San Francisco’s proposed Bay Plan Amendment No. 3-17 (BPA 3-17)\, which would update the San Francisco Waterfront Special Area Plan (SFWSAP)\, an element of the San Francisco Bay Plan. The proposed amendment would align the policies of the SFWSAP with the Port of San Francisco’s Waterfront Plan\, update the geographic-specific policies of the Fisherman’s Wharf vicinity to match the Northeastern Waterfront vicinity\, and establish a Sea Level Rise Public Education Initiative as a public benefit.(Ben Dorfman) [benjamin.dorfman@bcdc.ca.gov; 415-352-3827]\nStaff Report and Preliminary Recommendation // Appendix 1: Draft of amended SFWSAP with additions and removed text highlighted // Appendix 2: Amended SFWSAP maps // Appendix 3: Draft of the Exploratorium’s Sea Level Rise Public Education Initiative Proposal // Presentation // Public Comment \n\n\nFollow-Up Briefing on the Resilient SR 37 Near-Term Sears Point to Mare Island Improvement Projects\, by the California Department of Transportation\, Metropolitan Transportation Commission\, Solano Transportation Authority\, Napa Valley Transportation Authority\, and Sonoma County Transportation Authority\, located in Solano\, Napa\, and Sonoma counties)The Commission will hold a follow-up briefing on the Resilient SR37 Near-Term Sears Point to Mare Island Project\, currently in pre-application. The proposed improvements include replacing the Tolay Creek Bridge with a longer and wider bridge to facilitate large-scale tidal marsh restoration north of the bridge\, widening the highway to add an additional lane in each direction\, adding transit and prioritizing High Occupancy Vehicle trips\, and implementing habitat enhancement at Strip Marsh East (by Mare Island) to serve as a nature-based solution to storm surge.(Julie Garren) [415-352-3624; julie.garren@bcdc.ca.gov]Updated Staff Presentation // SR 37 Memo  \n\n\nLegislative BriefingThe Commission will receive a briefing from the Director of Legislative and External Affairs on relevant pending state legislative issues.(Rylan Gervase) [415-352-3611; rylan.gervase@bcdc.ca.gov]Staff Presentation // Legislative Report \n\n\nAdjournment \n\n\n			\n				\n				\n				\n				\n				Supplemental Materials\n				\n			\n				\n				\n				\n				\n				Meeting Minutes\n				Commission Meeting Minutes July 17\, 2025 \n			\n				\n				\n				\n				\n				Audio Recording & Transcript\n				\n \n			\n				\n				\n				\n				\n				Learn How to Participate\n				Bagley-Keene Open Meeting Act\nAs a state agency\, the Commission is governed by the Bagley-Keene Open Meeting Act which requires the Commission to: (1) publish an agenda at least ten days in advance of any meeting; and (2) describe specifically in that agenda the items to be transacted or discussed. Public notices of Commission meetings and staff reports (as applicable) dealing with matters on the meeting agendas can be found on BCDC’s website. Simply access Commission Meetings under the “Public Meetings” tab on the website and select the date of the meeting. \nHow to Provide Comments and Comment Time Limits\nPursuant to state law\, the Commission is currently conducting its public meetings in a “hybrid” fashion. Each meeting notice will specify (1) where the meeting is being primarily held physically\, (2) all teleconference locations\, which will be publicly-accessible\, and (3) the ZOOM virtual meeting link. If you would like to comment at the beginning of the meeting or on an item scheduled for public discussion\, you may do so in one of three ways: (1) being present at the primary physical or a teleconference meeting location; (2) emailing comments in advance to public comment until 10 a.m. on the day of the meeting; and (3) participating via ZOOM during the meeting. \nIf you plan to participate through ZOOM\, please use your ZOOM-enabled device and click on the “raise your hand” button\, and then wait to speak until called upon. If you are using a telephone to call into the meeting\, select *6 to unmute your phone and you will then be able to speak. We ask that everyone use the mute button when not speaking. It is also important that you not put your phone on hold. Each speaker may be limited to a maximum of three minutes or less at the discretion of the Chair during the public comment period depending on the volume of persons intending to provide public comment. Any speakers who exceed the time limits or interfere with the meeting may be muted by the Chair. It is strongly recommended that public comments be submitted in writing so they can be distributed to all Commission members in advance of the meeting for review. You are encouraged to submit written comments of any length and detailed information to the staff prior to the meeting at the email address above\, which will be distributed to the Commission members. \nQuestions and Staff Reports\nIf you have any questions concerning an item on the agenda\, would like to receive notice of future hearings\, or access staff reports related to the item\, please contact the staff member whose name\, email address and direct phone number are indicated in parenthesis at the end of the agenda item. \nCampaign Contributions\nState law requires Commissioners to disqualify themselves from voting on any matter if they have received a campaign contribution from an interested party within the past 12 months. If you intend to speak on any hearing item\, please indicate in your testimony if you have made campaign contributions in excess of $250 to any Commissioner within the last year\, and if so\, to which Commissioner(s) you have contributed. Other legal requirements govern contributions by applicants and other interested parties and establish criteria for Commissioner conflicts of interest. Please consult with the staff counsel if you have any questions about the rules that pertain to campaign contributions or conflicts of interest. \nAccess to Meetings\nMeetings are physically held in venues that are accessible to persons with disabilities. If you require special assistance or have technical questions\, please contact staff at least three days prior to the meeting via email. We will attempt to make the virtual meeting accessible via ZOOM accessibility capabilities\, as well.
URL:https://www.bcdc.ca.gov/event/july-17-2025-commission-meeting/
CATEGORIES:Commission
END:VEVENT
BEGIN:VEVENT
DTSTART;TZID=America/Los_Angeles:20250723T130000
DTEND;TZID=America/Los_Angeles:20250723T140000
DTSTAMP:20260422T012224
CREATED:20250625T171453Z
LAST-MODIFIED:20250625T171453Z
UID:10000293-1753275600-1753279200@www.bcdc.ca.gov
SUMMARY:July 23\, 2025 RSAP Summer Webinar #2: Creating Subregional Plans: A Local Government Primer
DESCRIPTION:Register Here:https://bcdc-ca-gov.zoom.us/webinar/register/WN_HZb3ctabSzmBhzuRLT4juA \n 
URL:https://www.bcdc.ca.gov/event/july-23-2025-rsap-summer-webinar-2/
CATEGORIES:Regional Shoreline Adaptation Plan
END:VEVENT
BEGIN:VEVENT
DTSTART;TZID=America/Los_Angeles:20250723T130000
DTEND;TZID=America/Los_Angeles:20250723T170000
DTSTAMP:20260422T012224
CREATED:20240917T182914Z
LAST-MODIFIED:20250527T214649Z
UID:10000201-1753275600-1753290000@www.bcdc.ca.gov
SUMMARY:July 23\, 2025 Engineering Criteria Review Board Meeting
DESCRIPTION:
URL:https://www.bcdc.ca.gov/event/july-23-2025-engineering-criteria-review-board-meeting/
CATEGORIES:Engineering Criteria Review Board
END:VEVENT
END:VCALENDAR